BEGIN:VCALENDAR
VERSION:2.0
PRODID:-//Tukios.com/
BEGIN:VEVENT
UID:8fcb8878-6731-464a-a38a-551b1e73e641@www.gearty-delmore.com
DTSTAMP:20260422T204816Z
DTSTART:20260702T200000Z
DTEND:20260702T210000Z
SUMMARY:Celebration of Life
DESCRIPTION:
URL:https://www.gearty-delmore.com/obituaries/carol-erikson
LOCATION:Gearty- Delmore Funeral Chapels 15800 37th Ave N  Plymouth MN 
	55446
GEO:45.0248976;-93.4811223
END:VEVENT
END:VCALENDAR