BEGIN:VCALENDAR
VERSION:2.0
PRODID:-//Tukios.com/
BEGIN:VEVENT
UID:c7de4d9a-2ea5-43e3-82c5-8da31e2a2f18@www.gearty-delmore.com
DTSTAMP:20260422T204649Z
DTSTART:20260501T183000Z
DTEND:20260501T190000Z
SUMMARY:Graveside Service
DESCRIPTION:
URL:https://www.gearty-delmore.com/obituaries/christine-knight
LOCATION:Mound Cemetery  3515 69th Avenue North  Brooklyn Center MN 55429
GEO:45.0801106;-93.326697
END:VEVENT
END:VCALENDAR