BEGIN:VCALENDAR
VERSION:2.0
PRODID:-//Tukios.com/
BEGIN:VEVENT
UID:7cd8a09a-2f3d-4d61-9ee0-85ebbcfbee0a@www.gearty-delmore.com
DTSTAMP:20260422T204944Z
DTSTART:20260501T163000Z
DTEND:20260501T180000Z
SUMMARY:Reception
DESCRIPTION:
URL:https://www.gearty-delmore.com/obituaries/christine-knight
LOCATION:Brookview Golden Valley 316 Brookview Pkwy S  Golden Valley MN 
	55426
GEO:44.9758316;-93.3854843
END:VEVENT
END:VCALENDAR