BEGIN:VCALENDAR
VERSION:2.0
PRODID:-//Tukios.com/
BEGIN:VEVENT
UID:b07a5355-b309-412c-9cf1-c19d344a1837@www.gearty-delmore.com
DTSTAMP:20260422T205103Z
DTSTART:20260501T143000Z
DTEND:20260501T153000Z
SUMMARY:Visitation
DESCRIPTION:
URL:https://www.gearty-delmore.com/obituaries/christine-knight
LOCATION:Gearty-Delmore Robbinsdale Chapel 3888 W. Broadway  Robbinsdale 
	MN 55422
GEO:45.0261376;-93.3327088
END:VEVENT
END:VCALENDAR