BEGIN:VCALENDAR
VERSION:2.0
PRODID:-//Tukios.com/
BEGIN:VEVENT
UID:cfd0af1b-d8ae-4156-a172-181ad062860c@www.gearty-delmore.com
DTSTAMP:20260422T204904Z
DTSTART:20260501T153000Z
DTEND:20260501T163000Z
SUMMARY:Celebration of Life
DESCRIPTION:
URL:https://www.gearty-delmore.com/obituaries/christine-knight
LOCATION:Gearty-Delmore Robbinsdale Chapel 3888 W. Broadway  Robbinsdale 
	MN 55422
GEO:45.0261376;-93.3327088
END:VEVENT
END:VCALENDAR