BEGIN:VCALENDAR
VERSION:2.0
PRODID:-//Tukios.com/
BEGIN:VEVENT
UID:e5429e19-c3bc-4563-9bc3-028b5c990750@www.gearty-delmore.com
DTSTAMP:20260422T082346Z
DTSTART:20260429T183000Z
DTEND:20260429T184500Z
SUMMARY:Graveside Service
DESCRIPTION:
URL:https://www.gearty-delmore.com/obituaries/elaine-eidem
LOCATION:Fort Snelling National Cemetery 7601 34th Avenue S  Minneapolis 
	MN 55450
GEO:44.8731879;-93.2156354
END:VEVENT
END:VCALENDAR