BEGIN:VCALENDAR
VERSION:2.0
PRODID:-//Tukios.com/
BEGIN:VEVENT
UID:1fd07b10-c07a-42a0-9951-524155d873ac@www.gearty-delmore.com
DTSTAMP:20260423T213515Z
DTSTART:20260501T150000Z
DTEND:20260501T160000Z
SUMMARY:Visitation
DESCRIPTION:
URL:https://www.gearty-delmore.com/obituaries/mael-kolor
LOCATION: 9600 Regent Avenue North  Minneapolis MN 55443
GEO:45.1294682;-93.3445565
END:VEVENT
END:VCALENDAR