BEGIN:VCALENDAR
VERSION:2.0
PRODID:-//Tukios.com/
BEGIN:VEVENT
UID:6220d459-753b-4260-a678-02d9e82bb0d0@www.gearty-delmore.com
DTSTAMP:20260423T213652Z
DTSTART:20260501T160000Z
DTEND:20260501T170000Z
SUMMARY:Mass
DESCRIPTION:
URL:https://www.gearty-delmore.com/obituaries/mael-kolor
LOCATION: 9600 Regent Avenue North  Minneapolis MN 55443
GEO:45.1294682;-93.3445565
END:VEVENT
END:VCALENDAR