BEGIN:VCALENDAR
VERSION:2.0
PRODID:-//Tukios.com/
BEGIN:VEVENT
UID:2dae8eef-89bc-4ebc-8548-81bdb2a51c8c@www.gearty-delmore.com
DTSTAMP:20260424T223717Z
DTSTART:20260504T220000Z
DTEND:20260505T000000Z
SUMMARY:Visitation
DESCRIPTION:
URL:https://www.gearty-delmore.com/obituaries/patrick-delmore
LOCATION: 3960 Wooddale Ave South  St Louis Park MN 55416
GEO:44.9300316;-93.3479755
END:VEVENT
END:VCALENDAR