BEGIN:VCALENDAR
VERSION:2.0
PRODID:-//Tukios.com/
BEGIN:VEVENT
UID:fdc2b913-0c37-4130-b7ac-bbf86b163ea4@www.gearty-delmore.com
DTSTAMP:20260424T224250Z
DTSTART:20260505T150000Z
DTEND:20260505T160000Z
SUMMARY:Visitation
DESCRIPTION:
URL:https://www.gearty-delmore.com/obituaries/patrick-delmore
LOCATION: 13505 Excelsior Blvd  Minnetonka MN 55345
GEO:44.9117317;-93.4518708
END:VEVENT
END:VCALENDAR