BEGIN:VCALENDAR
VERSION:2.0
PRODID:-//Tukios.com/
BEGIN:VEVENT
UID:fa7650a4-675e-4b3e-924d-a62018221852@www.gearty-delmore.com
DTSTAMP:20260424T224136Z
DTSTART:20260505T160000Z
DTEND:20260505T170000Z
SUMMARY:Mass of Christian Burial
DESCRIPTION:
URL:https://www.gearty-delmore.com/obituaries/patrick-delmore
LOCATION: 13505 Excelsior Blvd  Minnetonka MN 55345
GEO:44.9117317;-93.4518708
END:VEVENT
END:VCALENDAR