BEGIN:VCALENDAR
VERSION:2.0
PRODID:-//Tukios.com/
BEGIN:VEVENT
UID:9c0c3d67-2043-4274-988a-6ef1dbd6808a@www.gearty-delmore.com
DTSTAMP:20260419T091959Z
DTSTART:20260428T003000Z
DTEND:20260428T010000Z
SUMMARY:Prayer Service
DESCRIPTION:
URL:https://www.gearty-delmore.com/obituaries/sandra-johnson
LOCATION: 3888 W Broadway Avenue  Robbinsdale MN 55422
GEO:45.026156;-93.3326822
END:VEVENT
END:VCALENDAR